BEGIN:VCALENDAR
VERSION:2.0
PRODID:SchoolNow
CALSCALE:GREGORIAN
BEGIN:VEVENT
UID:994fed80-02ae-11ec-a221-0ab34f6fc819
DTSTAMP:20210821T183546Z
SUMMARY:Bacon Boss
LOCATION:Lodge Parking Lot
URL;VALUE=URI:https://www.wildernesslakecdd.org/calendar/2683608/bacon-boss
DTSTART:20210922T200000Z
DTEND:20210923T000000Z
END:VEVENT
END:VCALENDAR
