BEGIN:VCALENDAR
VERSION:2.0
PRODID:SchoolNow
CALSCALE:GREGORIAN
BEGIN:VEVENT
UID:17f00fd6-02ae-11ec-92b2-02e275fc532b
DTSTAMP:20210821T183209Z
SUMMARY:Bunco
LOCATION:Activities Center
URL;VALUE=URI:https://www.wildernesslakecdd.org/calendar/2683607/bunco
DTSTART:20210921T230000Z
DTEND:20210922T010000Z
END:VEVENT
END:VCALENDAR
