BEGIN:VCALENDAR
VERSION:2.0
PRODID:SchoolNow
CALSCALE:GREGORIAN
BEGIN:VEVENT
UID:6bd69292-02ad-11ec-a29f-0ec8fca6a6c7
DTSTAMP:20210821T182720Z
SUMMARY:Movie Night
LOCATION:Theatre
URL;VALUE=URI:https://www.wildernesslakecdd.org/calendar/2683606/movie-nigh
 t
DTSTART:20210920T220000Z
DTEND:20210921T000000Z
END:VEVENT
END:VCALENDAR
