BEGIN:VCALENDAR
VERSION:2.0
PRODID:SchoolNow
CALSCALE:GREGORIAN
BEGIN:VEVENT
UID:31800592-02ad-11ec-96f7-0ec8fca6a6c7
DTSTAMP:20210821T182542Z
SUMMARY:Story Time
LOCATION:Nature Center Classroom
URL;VALUE=URI:https://www.wildernesslakecdd.org/calendar/2683605/story-time
DTSTART:20210920T140000Z
DTEND:20210920T150000Z
END:VEVENT
END:VCALENDAR
