BEGIN:VCALENDAR
VERSION:2.0
PRODID:SchoolNow
CALSCALE:GREGORIAN
BEGIN:VEVENT
UID:ba7e17e0-02ac-11ec-b7a7-0ec8fca6a6c7
DTSTAMP:20210821T182222Z
SUMMARY:Hot Off The Press Food Truck
LOCATION:Lodge Parking Lot
URL;VALUE=URI:https://www.wildernesslakecdd.org/calendar/2683604/hot-off-th
 e-press-food-truck
DTSTART:20210918T200000Z
DTEND:20210919T000000Z
END:VEVENT
END:VCALENDAR
