BEGIN:VCALENDAR
VERSION:2.0
PRODID:SchoolNow
CALSCALE:GREGORIAN
BEGIN:VEVENT
UID:95c2156e-02ac-11ec-a767-0ec8fca6a6c7
DTSTAMP:20210821T182121Z
SUMMARY:Hot Off The Press Food Truck
LOCATION:Lodge Parking Lot
URL;VALUE=URI:https://www.wildernesslakecdd.org/calendar/2683602/hot-off-th
 e-press-food-truck
DTSTART:20210821T182000Z
DTEND:20210821T192000Z
END:VEVENT
END:VCALENDAR
