BEGIN:VCALENDAR
VERSION:2.0
PRODID:SchoolNow
CALSCALE:GREGORIAN
BEGIN:VEVENT
UID:73b7d0bc-02ac-11ec-817a-0ec8fca6a6c7
DTSTAMP:20210821T182024Z
SUMMARY:Art Class
LOCATION:Activities Center
URL;VALUE=URI:https://www.wildernesslakecdd.org/calendar/2683601/art-class
DTSTART:20210918T160000Z
DTEND:20210918T190000Z
END:VEVENT
END:VCALENDAR
