BEGIN:VCALENDAR
VERSION:2.0
PRODID:SchoolNow
CALSCALE:GREGORIAN
BEGIN:VEVENT
UID:541bdc26-02ac-11ec-8261-0ec8fca6a6c7
DTSTAMP:20210821T181931Z
SUMMARY:Engine 39 Pizza
LOCATION:Lodge Parking Lot
URL;VALUE=URI:https://www.wildernesslakecdd.org/calendar/2683600/engine-39-
 pizza
DTSTART:20210917T200000Z
DTEND:20210918T000000Z
END:VEVENT
END:VCALENDAR
