BEGIN:VCALENDAR
VERSION:2.0
PRODID:SchoolNow
CALSCALE:GREGORIAN
BEGIN:VEVENT
UID:35b082f0-02ac-11ec-a3bd-0ec8fca6a6c7
DTSTAMP:20210821T181840Z
SUMMARY:Chat'hers Event
URL;VALUE=URI:https://www.wildernesslakecdd.org/calendar/2683599/chathers-e
 vent
DTSTART:20210916T150000Z
DTEND:20210916T190000Z
END:VEVENT
END:VCALENDAR
