BEGIN:VCALENDAR
VERSION:2.0
PRODID:SchoolNow
CALSCALE:GREGORIAN
BEGIN:VEVENT
UID:0eb25c1e-02ac-11ec-a729-0ec8fca6a6c7
DTSTAMP:20210821T181734Z
SUMMARY:Dang Good Sushi Food Truck
LOCATION:Lodge Parking Lot
URL;VALUE=URI:https://www.wildernesslakecdd.org/calendar/2683598/dang-good-
 sushi-food-truck
DTSTART:20210914T200000Z
DTEND:20210915T000000Z
END:VEVENT
END:VCALENDAR
