BEGIN:VCALENDAR
VERSION:2.0
PRODID:SchoolNow
CALSCALE:GREGORIAN
BEGIN:VEVENT
UID:ec50d470-02ab-11ec-b2be-0ec8fca6a6c7
DTSTAMP:20210821T181636Z
SUMMARY:ARC Meeting
LOCATION:Activities Center
URL;VALUE=URI:https://www.wildernesslakecdd.org/calendar/2683597/arc-meetin
 g
DTSTART:20210913T223000Z
DTEND:20210914T000000Z
END:VEVENT
END:VCALENDAR
