BEGIN:VCALENDAR
VERSION:2.0
PRODID:SchoolNow
CALSCALE:GREGORIAN
BEGIN:VEVENT
UID:ceb8c08a-02ab-11ec-a974-0ec8fca6a6c7
DTSTAMP:20210821T181547Z
SUMMARY:Movie Night
LOCATION:Theatre
URL;VALUE=URI:https://www.wildernesslakecdd.org/calendar/2683596/movie-nigh
 t
DTSTART:20210913T220000Z
DTEND:20210914T000000Z
END:VEVENT
END:VCALENDAR
