BEGIN:VCALENDAR
VERSION:2.0
PRODID:SchoolNow
CALSCALE:GREGORIAN
BEGIN:VEVENT
UID:ab22402e-02ab-11ec-81ce-0ec8fca6a6c7
DTSTAMP:20210821T181447Z
SUMMARY:Story Time
LOCATION:Nature Center
URL;VALUE=URI:https://www.wildernesslakecdd.org/calendar/2683595/story-time
DTSTART:20210913T140000Z
DTEND:20210913T150000Z
END:VEVENT
END:VCALENDAR
