BEGIN:VCALENDAR
VERSION:2.0
PRODID:SchoolNow
CALSCALE:GREGORIAN
BEGIN:VEVENT
UID:86163ac4-02ab-11ec-9834-0ec8fca6a6c7
DTSTAMP:20210821T181345Z
SUMMARY:Kid's Intro to Tennis
LOCATION:Tennis Courts
URL;VALUE=URI:https://www.wildernesslakecdd.org/calendar/2683594/kids-intro
 -to-tennis
DTSTART:20210911T130000Z
DTEND:20210911T150000Z
END:VEVENT
END:VCALENDAR
