BEGIN:VCALENDAR
VERSION:2.0
PRODID:SchoolNow
CALSCALE:GREGORIAN
BEGIN:VEVENT
UID:50496f2e-02ab-11ec-ab88-0ec8fca6a6c7
DTSTAMP:20210821T181215Z
SUMMARY:Wine Tasting
LOCATION:Activities Center
URL;VALUE=URI:https://www.wildernesslakecdd.org/calendar/2683593/wine-tasti
 ng
DTSTART:20210910T223000Z
DTEND:20210911T003000Z
END:VEVENT
END:VCALENDAR
