BEGIN:VCALENDAR
VERSION:2.0
PRODID:SchoolNow
CALSCALE:GREGORIAN
BEGIN:VEVENT
UID:2e69559a-02ab-11ec-a726-0ec8fca6a6c7
DTSTAMP:20210821T181236Z
SUMMARY:Taco Tuesday Dinner
LOCATION:Activities Center
URL;VALUE=URI:https://www.wildernesslakecdd.org/calendar/2683592/taco-tuesd
 ay-dinner
DTSTART:20210909T220000Z
DTEND:20210909T233000Z
END:VEVENT
END:VCALENDAR
