BEGIN:VCALENDAR
VERSION:2.0
PRODID:SchoolNow
CALSCALE:GREGORIAN
BEGIN:VEVENT
UID:0547f0ae-02ab-11ec-84de-0ec8fca6a6c7
DTSTAMP:20210821T181009Z
SUMMARY:Lodge Holiday Hours
URL;VALUE=URI:https://www.wildernesslakecdd.org/calendar/2683591/lodge-holi
 day-hours
DTSTART:20210906T160000Z
DTEND:20210906T220000Z
END:VEVENT
END:VCALENDAR
