BEGIN:VCALENDAR
VERSION:2.0
PRODID:SchoolNow
CALSCALE:GREGORIAN
BEGIN:VEVENT
UID:ac11a85e-02aa-11ec-ab96-0ec8fca6a6c7
DTSTAMP:20210821T180739Z
SUMMARY:Labor Day BBQ
LOCATION:Poolside
URL;VALUE=URI:https://www.wildernesslakecdd.org/calendar/2683590/labor-day-
 bbq
DTSTART:20210904T180000Z
DTEND:20210904T200000Z
END:VEVENT
END:VCALENDAR
