BEGIN:VCALENDAR
VERSION:2.0
PRODID:SchoolNow
CALSCALE:GREGORIAN
BEGIN:VEVENT
UID:9efeb722-029d-11ec-baaa-0ee8541b5ca3
DTSTAMP:20210821T163414Z
SUMMARY:Teen Volunteer Meeting
LOCATION:Nature Center
URL;VALUE=URI:https://www.wildernesslakecdd.org/calendar/2682558/teen-volun
 teer-meeting
DTSTART:20210824T200000Z
DTEND:20210824T210000Z
END:VEVENT
END:VCALENDAR
