BEGIN:VCALENDAR
VERSION:2.0
PRODID:SchoolNow
CALSCALE:GREGORIAN
BEGIN:VEVENT
UID:2a817b88-fd60-11eb-83b7-0e3e2ffc8bc1
DTSTAMP:20210821T164300Z
SUMMARY:HOA Mediation
LOCATION:Theatre
URL;VALUE=URI:https://www.wildernesslakecdd.org/calendar/2672326/hoa-mefdia
 tion
DTSTART:20210831T140000Z
DTEND:20210831T170000Z
END:VEVENT
END:VCALENDAR
