BEGIN:VCALENDAR
VERSION:2.0
PRODID:SchoolNow
CALSCALE:GREGORIAN
BEGIN:VEVENT
UID:022815c0-fd60-11eb-8c02-0e3e2ffc8bc1
DTSTAMP:20210815T003035Z
SUMMARY:ARC Meeting
LOCATION:Activities Center
URL;VALUE=URI:https://www.wildernesslakecdd.org/calendar/2672325/arc-meetin
 g
DTSTART:20210830T223000Z
DTEND:20210831T000000Z
END:VEVENT
END:VCALENDAR
