BEGIN:VCALENDAR
VERSION:2.0
PRODID:SchoolNow
CALSCALE:GREGORIAN
BEGIN:VEVENT
UID:d81b93ec-fd5f-11eb-b662-0e3e2ffc8bc1
DTSTAMP:20210821T163546Z
SUMMARY:Blood Drive
URL;VALUE=URI:https://www.wildernesslakecdd.org/calendar/2672324/blood-driv
 e
DTSTART:20210828T160000Z
DTEND:20210829T210000Z
END:VEVENT
END:VCALENDAR
