BEGIN:VCALENDAR
VERSION:2.0
PRODID:SchoolNow
CALSCALE:GREGORIAN
BEGIN:VEVENT
UID:b968965c-fd5f-11eb-bbc6-0e3e2ffc8bc1
DTSTAMP:20210821T164223Z
SUMMARY:Family Movie Night
LOCATION:Theatre
URL;VALUE=URI:https://www.wildernesslakecdd.org/calendar/2672323/family-mov
 ie-night
DTSTART:20210827T230000Z
DTEND:20210828T010000Z
END:VEVENT
END:VCALENDAR
