BEGIN:VCALENDAR
VERSION:2.0
PRODID:SchoolNow
CALSCALE:GREGORIAN
BEGIN:VEVENT
UID:a3b52b86-fd5f-11eb-af9a-0e3e2ffc8bc1
DTSTAMP:20210815T002757Z
SUMMARY:Hot Off the Press Food Truck
URL;VALUE=URI:https://www.wildernesslakecdd.org/calendar/2672322/hot-off-th
 e-press-food-truck
DTSTART:20210827T200000Z
DTEND:20210828T000000Z
END:VEVENT
END:VCALENDAR
