BEGIN:VCALENDAR
VERSION:2.0
PRODID:SchoolNow
CALSCALE:GREGORIAN
BEGIN:VEVENT
UID:368810e6-f7c4-11eb-a95a-0ed9296f2167
DTSTAMP:20210807T211246Z
SUMMARY:Kid's Intro To Tennis
URL;VALUE=URI:https://www.wildernesslakecdd.org/calendar/2658662/kids-intro
 -to-tennis
DTSTART:20210821T130000Z
DTEND:20210821T150000Z
END:VEVENT
END:VCALENDAR
