BEGIN:VCALENDAR
VERSION:2.0
PRODID:SchoolNow
CALSCALE:GREGORIAN
BEGIN:VEVENT
UID:16cf7bd6-f7c4-11eb-9245-0ed9296f2167
DTSTAMP:20210807T211153Z
SUMMARY:Crab Daddy's Food Truck
URL;VALUE=URI:https://www.wildernesslakecdd.org/calendar/2658661/crab-daddy
 s-food-truck
DTSTART:20210820T200000Z
DTEND:20210821T000000Z
END:VEVENT
END:VCALENDAR
