BEGIN:VCALENDAR
VERSION:2.0
PRODID:SchoolNow
CALSCALE:GREGORIAN
BEGIN:VEVENT
UID:f5b2293a-f7c3-11eb-82ce-0ed9296f2167
DTSTAMP:20210807T211057Z
SUMMARY:Bunco
URL;VALUE=URI:https://www.wildernesslakecdd.org/calendar/2658660/bunco
DTSTART:20210817T230000Z
DTEND:20210818T003000Z
END:VEVENT
END:VCALENDAR
