BEGIN:VCALENDAR
VERSION:2.0
PRODID:SchoolNow
CALSCALE:GREGORIAN
BEGIN:VEVENT
UID:e9608e66-f7c2-11eb-a2a3-0ed9296f2167
DTSTAMP:20210807T210327Z
SUMMARY:ARC Meeting
URL;VALUE=URI:https://www.wildernesslakecdd.org/calendar/2658659/arc-meetin
 g
DTSTART:20210816T223000Z
DTEND:20210817T000000Z
END:VEVENT
END:VCALENDAR
