BEGIN:VCALENDAR
VERSION:2.0
PRODID:SchoolNow
CALSCALE:GREGORIAN
BEGIN:VEVENT
UID:8788b45c-f7c2-11eb-8c63-0ed9296f2167
DTSTAMP:20210807T210221Z
SUMMARY:Art Class
URL;VALUE=URI:https://www.wildernesslakecdd.org/calendar/2658658/art-class
DTSTART:20210814T160000Z
DTEND:20210814T190000Z
END:VEVENT
END:VCALENDAR
