BEGIN:VCALENDAR
VERSION:2.0
PRODID:SchoolNow
CALSCALE:GREGORIAN
BEGIN:VEVENT
UID:30255d0a-f7c2-11eb-b496-0ed9296f2167
DTSTAMP:20210807T205816Z
SUMMARY:Boo Hoo Breakfast
URL;VALUE=URI:https://www.wildernesslakecdd.org/calendar/2658656/boo-hoo-br
 eakfast
DTSTART:20210810T130000Z
DTEND:20210810T150000Z
END:VEVENT
END:VCALENDAR
