BEGIN:VCALENDAR
VERSION:2.0
PRODID:SchoolNow
CALSCALE:GREGORIAN
BEGIN:VEVENT
UID:d5949ee6-f7c1-11eb-bc63-0ed9296f2167
DTSTAMP:20210807T205544Z
SUMMARY:Last Day of School Treat
URL;VALUE=URI:https://www.wildernesslakecdd.org/calendar/2658655/last-day-o
 f-school-treat
DTSTART:20210809T180000Z
DTEND:20210809T210000Z
END:VEVENT
END:VCALENDAR
