BEGIN:VCALENDAR
VERSION:2.0
PRODID:SchoolNow
CALSCALE:GREGORIAN
BEGIN:VEVENT
UID:e70c304e-f663-11eb-8623-0edac73bbcd3
DTSTAMP:20220505T130912Z
SUMMARY:CDD Board Meeting - Aug. 2022
LOCATION:The Preserve at Wilderness Lake Lodge\, located at 21320 Wildernes
 s Lake Boulevard\, Land O' Lakes\, FL 34637.
URL;VALUE=URI:https://www.wildernesslakecdd.org/calendar/2656881/cdd-board-
 meeting-aug-2022
DTSTART:20220803T223000Z
DTEND:20220804T020000Z
END:VEVENT
END:VCALENDAR
