BEGIN:VCALENDAR
VERSION:2.0
PRODID:SchoolNow
CALSCALE:GREGORIAN
BEGIN:VEVENT
UID:c997dc84-f663-11eb-8944-0edac73bbcd3
DTSTAMP:20210806T031000Z
SUMMARY:CDD Board Meeting - Jun. 2022
LOCATION:The Preserve at Wilderness Lake Lodge\, located at 21320 Wildernes
 s Lake Boulevard\, Land O' Lakes\, FL 34637.
URL;VALUE=URI:https://www.wildernesslakecdd.org/calendar/2656879/cdd-board-
 meeting-jun-2022
DTSTART:20220601T133000Z
DTEND:20220601T170000Z
END:VEVENT
END:VCALENDAR
