BEGIN:VCALENDAR
VERSION:2.0
PRODID:SchoolNow
CALSCALE:GREGORIAN
BEGIN:VEVENT
UID:ad083794-f663-11eb-8c44-0edac73bbcd3
DTSTAMP:20210806T030913Z
SUMMARY:CDD Board Meeting - Apr. 2022
LOCATION:The Preserve at Wilderness Lake Lodge\, located at 21320 Wildernes
 s Lake Boulevard\, Land O' Lakes\, FL 34637.
URL;VALUE=URI:https://www.wildernesslakecdd.org/calendar/2656877/cdd-board-
 meeting-apr-2022
DTSTART:20220406T133000Z
DTEND:20220406T170000Z
END:VEVENT
END:VCALENDAR
