BEGIN:VCALENDAR
VERSION:2.0
PRODID:SchoolNow
CALSCALE:GREGORIAN
BEGIN:VEVENT
UID:a0577ece-f663-11eb-b586-0edac73bbcd3
DTSTAMP:20220301T212146Z
SUMMARY:CDD Board Meeting - Mar. 2022
LOCATION:The Preserve at Wilderness Lake Lodge\, located at 21320 Wildernes
 s Lake Boulevard\, Land O' Lakes\, FL 34637 - Call-in #: 1-813-658-6070 - 
 Guest Code:165948
URL;VALUE=URI:https://www.wildernesslakecdd.org/calendar/2656876/cdd-board-
 meeting-mar-2022
DTSTART:20220302T143000Z
DTEND:20220302T180000Z
END:VEVENT
END:VCALENDAR
