BEGIN:VCALENDAR
VERSION:2.0
PRODID:SchoolNow
CALSCALE:GREGORIAN
BEGIN:VEVENT
UID:8b7e0dc4-f663-11eb-ab8a-0edac73bbcd3
DTSTAMP:20220527T171411Z
SUMMARY:CDD Board Meeting - Feb. 2022
LOCATION:The Preserve at Wilderness Lake Lodge\, located at 21320 Wildernes
 s Lake Boulevard\, Land O' Lakes\, FL 34637. Call-in #: 1-813-658-6070 - G
 uest Code: 165948
URL;VALUE=URI:https://www.wildernesslakecdd.org/calendar/2656875/cdd-board-
 meeting-feb-2022
DTSTART:20220202T233000Z
DTEND:20220203T030000Z
ATTACH;FILENAME=2022-02-02 - Preserve at Wilderness Lake CDD - Final Agenda
  - Copy.pdf;FMTTYPE=application/pdf:https://campussuite-storage.s3.amazona
 ws.com/prod/1558874/21caec5e-ea98-11e9-8581-0a20d2c7fac4/2425081/62f0d020-
 dde0-11ec-a879-0e8aa5f04211/file/2022-02-02 - Preserve at Wilderness Lake 
 CDD - Final Agenda - Copy.pdf
END:VEVENT
END:VCALENDAR
