BEGIN:VCALENDAR
VERSION:2.0
PRODID:SchoolNow
CALSCALE:GREGORIAN
BEGIN:VEVENT
UID:7cbbdbea-f663-11eb-a019-0edac73bbcd3
DTSTAMP:20220908T230854Z
SUMMARY:CDD Board Meeting - Jan. 2022
LOCATION:Call-in #: 1-813-658-6070 Guest Code: 165948 -     The Preserve at
  Wilderness Lake Lodge\, located at 21320 Wilderness Lake Boulevard\, Land
  O' Lakes\, FL 34637.
URL;VALUE=URI:https://www.wildernesslakecdd.org/calendar/2656874/cdd-board-
 meeting-jan-2022
DTSTART:20220105T143000Z
DTEND:20220105T180000Z
END:VEVENT
END:VCALENDAR
