BEGIN:VCALENDAR
VERSION:2.0
PRODID:SchoolNow
CALSCALE:GREGORIAN
BEGIN:VEVENT
UID:63bea2ee-f663-11eb-be0b-0edac73bbcd3
DTSTAMP:20211124T160808Z
SUMMARY:CDD Board Meeting - Dec. 2021
LOCATION:The Preserve at Wilderness Lake Lodge\, located at 21320 Wildernes
 s Lake Boulevard\, Land O' Lakes\, FL 34637. Call-in #: 1-813-658-6070 Cod
 e: 165948
URL;VALUE=URI:https://www.wildernesslakecdd.org/calendar/2656873/cdd-board-
 meeting-dec-2021
DTSTART:20211201T143000Z
DTEND:20211201T180000Z
ATTACH;FILENAME=2021-12-01- Preserve at Wilderness Lake CDD - Final Agenda.
 pdf;FMTTYPE=application/pdf:https://campussuite-storage.s3.amazonaws.com/p
 rod/1558874/21caec5e-ea98-11e9-8581-0a20d2c7fac4/2348112/388d52b2-4d40-11e
 c-a970-0ad36310973d/file/2021-12-01- Preserve at Wilderness Lake CDD - Fin
 al Agenda.pdf
END:VEVENT
END:VCALENDAR
