BEGIN:VCALENDAR
VERSION:2.0
PRODID:SchoolNow
CALSCALE:GREGORIAN
BEGIN:VEVENT
UID:513c40f4-f663-11eb-b959-0edac73bbcd3
DTSTAMP:20210806T030639Z
SUMMARY:CDD Board Meeting - Nov. 2021
LOCATION:The Preserve at Wilderness Lake Lodge\, located at 21320 Wildernes
 s Lake Boulevard\, Land O' Lakes\, FL 34637.
URL;VALUE=URI:https://www.wildernesslakecdd.org/calendar/2656872/cdd-board-
 meeting-nov-2021
DTSTART:20211103T223000Z
DTEND:20211104T020000Z
END:VEVENT
END:VCALENDAR
