BEGIN:VCALENDAR
VERSION:2.0
PRODID:SchoolNow
CALSCALE:GREGORIAN
BEGIN:VEVENT
UID:40381454-f663-11eb-9157-0edac73bbcd3
DTSTAMP:20220908T230818Z
SUMMARY:CDD Board Meeting - Oct. 2021
LOCATION:The Preserve at Wilderness Lake Lodge\, located at 21320 Wildernes
 s Lake Boulevard\, Land O' Lakes\, FL 34637. Call In #: 813-658-6070      
   Conference ID #: 165948
URL;VALUE=URI:https://www.wildernesslakecdd.org/calendar/2656871/cdd-board-
 meeting-oct-2021
DTSTART:20211006T133000Z
DTEND:20211006T170000Z
END:VEVENT
END:VCALENDAR
