BEGIN:VCALENDAR
VERSION:2.0
PRODID:SchoolNow
CALSCALE:GREGORIAN
BEGIN:VEVENT
UID:fdf3be8e-ee58-11eb-80a7-022cdcaaef35
DTSTAMP:20210726T213358Z
SUMMARY:Walking\, Toning\, and Strengthening Class
LOCATION:Activities Center
URL;VALUE=URI:https://www.wildernesslakecdd.org/calendar/2647770/walking-to
 ning-and-strengthening-class
DTSTART:20210730T133000Z
DTEND:20210730T144500Z
END:VEVENT
END:VCALENDAR
