BEGIN:VCALENDAR
VERSION:2.0
PRODID:SchoolNow
CALSCALE:GREGORIAN
BEGIN:VEVENT
UID:98d3505a-ee58-11eb-a64d-022cdcaaef35
DTSTAMP:20210726T213105Z
SUMMARY:Walking\, Toning\, and Strengthening Class
LOCATION:Activities Center
URL;VALUE=URI:https://www.wildernesslakecdd.org/calendar/2647769/walking-to
 ning-and-strengthening-class
DTSTART:20210728T133000Z
DTEND:20210728T144500Z
END:VEVENT
END:VCALENDAR
