BEGIN:VCALENDAR
VERSION:2.0
PRODID:SchoolNow
CALSCALE:GREGORIAN
BEGIN:VEVENT
UID:aeace908-ee54-11eb-adbe-020d9b5a4aef
DTSTAMP:20210726T210144Z
SUMMARY:Yoga
URL;VALUE=URI:https://www.wildernesslakecdd.org/calendar/2647767/yoga
DTSTART:20210729T121500Z
DTEND:20210729T134500Z
END:VEVENT
END:VCALENDAR
