BEGIN:VCALENDAR
VERSION:2.0
PRODID:SchoolNow
CALSCALE:GREGORIAN
BEGIN:VEVENT
UID:0a270472-ee54-11eb-974e-0a8619b835f7
DTSTAMP:20210726T213021Z
SUMMARY:Yoga
LOCATION:Activities Center
URL;VALUE=URI:https://www.wildernesslakecdd.org/calendar/2647753/yoga
DTSTART:20210727T121500Z
DTEND:20210727T134500Z
END:VEVENT
END:VCALENDAR
