BEGIN:VCALENDAR
VERSION:2.0
PRODID:SchoolNow
CALSCALE:GREGORIAN
BEGIN:VEVENT
UID:6d02f944-ee53-11eb-9c46-022cdcaaef35
DTSTAMP:20210726T205244Z
SUMMARY:Water Aerobics
LOCATION:Lap Pool
URL;VALUE=URI:https://www.wildernesslakecdd.org/calendar/2647752/water-aero
 bics
DTSTART:20210730T130000Z
DTEND:20210730T140000Z
END:VEVENT
END:VCALENDAR
