BEGIN:VCALENDAR
VERSION:2.0
PRODID:SchoolNow
CALSCALE:GREGORIAN
BEGIN:VEVENT
UID:4ed26c20-ee53-11eb-8454-022cdcaaef35
DTSTAMP:20210726T205153Z
SUMMARY:Water Aerobics
LOCATION:Lap Pool
URL;VALUE=URI:https://www.wildernesslakecdd.org/calendar/2647751/water-aero
 bics
DTSTART:20210729T130000Z
DTEND:20210729T140000Z
END:VEVENT
END:VCALENDAR
