BEGIN:VCALENDAR
VERSION:2.0
PRODID:SchoolNow
CALSCALE:GREGORIAN
BEGIN:VEVENT
UID:31d76bb6-ee53-11eb-9cd4-022cdcaaef35
DTSTAMP:20210726T205105Z
SUMMARY:Water Aerobics
LOCATION:Lap Pool
URL;VALUE=URI:https://www.wildernesslakecdd.org/calendar/2647750/water-aero
 bics
DTSTART:20210728T130000Z
DTEND:20210728T140000Z
END:VEVENT
END:VCALENDAR
