BEGIN:VCALENDAR
VERSION:2.0
PRODID:SchoolNow
CALSCALE:GREGORIAN
BEGIN:VEVENT
UID:06c9c392-ee53-11eb-b4f9-022cdcaaef35
DTSTAMP:20210726T204952Z
SUMMARY:Water Aerobics
LOCATION:Lap Pool
URL;VALUE=URI:https://www.wildernesslakecdd.org/calendar/2647749/water-aero
 bics
DTSTART:20210727T130000Z
DTEND:20210727T140000Z
END:VEVENT
END:VCALENDAR
