BEGIN:VCALENDAR
VERSION:2.0
PRODID:SchoolNow
CALSCALE:GREGORIAN
BEGIN:VEVENT
UID:73f6865a-d380-11eb-bc7f-027d5dc1295d
DTSTAMP:20210622T173953Z
SUMMARY:Roadway Resurfacing Virtual Forum
URL;VALUE=URI:https://www.wildernesslakecdd.org/calendar/2625580/test
DTSTART:20210623T223000Z
DTEND:20210623T233000Z
END:VEVENT
END:VCALENDAR
