BEGIN:VCALENDAR
VERSION:2.0
PRODID:SchoolNow
CALSCALE:GREGORIAN
BEGIN:VEVENT
UID:3434b2bc-c70a-11eb-97e2-0ead2cbb649d
DTSTAMP:20210606T210020Z
SUMMARY:Dang Good Sushi Food Truck
LOCATION:Lodge Parking Lot
URL;VALUE=URI:https://www.wildernesslakecdd.org/calendar/2612389/dang-good-
 sushi-food-truck
DTSTART:20210629T200000Z
DTEND:20210630T000000Z
END:VEVENT
END:VCALENDAR
